BEGIN:VCALENDAR
VERSION:2.0
PRODID:icalendar-ruby
CALSCALE:GREGORIAN
METHOD:PUBLISH
BEGIN:VEVENT
DTSTAMP:20260420T091318Z
UID:5-231631@galionsaintpaul.com
DTSTART:20261025T133000Z
DTEND:20261025T144500Z
CLASS:PUBLIC
CREATED:20260420T035523
DESCRIPTION:Sunday Worship
LAST-MODIFIED:20260420T035523
LOCATION:
SUMMARY:Sunday Worship
URL;VALUE=URI:https://galionsaintpaul.com/events/sunday-worship/2026-10-25
END:VEVENT
END:VCALENDAR
