BEGIN:VCALENDAR
VERSION:2.0
PRODID:icalendar-ruby
CALSCALE:GREGORIAN
METHOD:PUBLISH
BEGIN:VEVENT
DTSTAMP:20260420T041824Z
UID:5-231573@galionsaintpaul.com
DTSTART:20261004T133000Z
DTEND:20261004T144500Z
CLASS:PUBLIC
CREATED:20260420T001800
DESCRIPTION:Sunday Worship
LAST-MODIFIED:20260420T001800
LOCATION:
SUMMARY:Sunday Worship
URL;VALUE=URI:https://galionsaintpaul.com/events/sunday-worship/2026-10-04
END:VEVENT
END:VCALENDAR
