BEGIN:VCALENDAR
VERSION:2.0
PRODID:icalendar-ruby
CALSCALE:GREGORIAN
METHOD:PUBLISH
BEGIN:VEVENT
DTSTAMP:20260420T022909Z
UID:5-231517@galionsaintpaul.com
DTSTART:20260927T133000Z
DTEND:20260927T144500Z
CLASS:PUBLIC
CREATED:20260419T204058
DESCRIPTION:Sunday Worship
LAST-MODIFIED:20260419T204058
LOCATION:
SUMMARY:Sunday Worship
URL;VALUE=URI:https://galionsaintpaul.com/events/sunday-worship/2026-09-27
END:VEVENT
END:VCALENDAR
