BEGIN:VCALENDAR
VERSION:2.0
PRODID:icalendar-ruby
CALSCALE:GREGORIAN
METHOD:PUBLISH
BEGIN:VEVENT
DTSTAMP:20260420T004031Z
UID:5-231461@galionsaintpaul.com
DTSTART:20260920T133000Z
DTEND:20260920T144500Z
CLASS:PUBLIC
CREATED:20260419T165908
DESCRIPTION:Sunday Worship
LAST-MODIFIED:20260419T165908
LOCATION:
SUMMARY:Sunday Worship
URL;VALUE=URI:https://galionsaintpaul.com/events/sunday-worship/2026-09-20
END:VEVENT
END:VCALENDAR
