BEGIN:VCALENDAR
VERSION:2.0
PRODID:icalendar-ruby
CALSCALE:GREGORIAN
METHOD:PUBLISH
BEGIN:VEVENT
DTSTAMP:20260419T230830Z
UID:5-231460@galionsaintpaul.com
DTSTART:20260913T133000Z
DTEND:20260913T144500Z
CLASS:PUBLIC
CREATED:20260419T165908
DESCRIPTION:Sunday Worship
LAST-MODIFIED:20260419T165908
LOCATION:
SUMMARY:Sunday Worship
URL;VALUE=URI:https://galionsaintpaul.com/events/sunday-worship/2026-09-13
END:VEVENT
END:VCALENDAR
