BEGIN:VCALENDAR
VERSION:2.0
PRODID:icalendar-ruby
CALSCALE:GREGORIAN
METHOD:PUBLISH
BEGIN:VEVENT
DTSTAMP:20260419T180823Z
UID:5-231402@galionsaintpaul.com
DTSTART:20260823T133000Z
DTEND:20260823T144500Z
CLASS:PUBLIC
CREATED:20260419T131646
DESCRIPTION:Sunday Worship
LAST-MODIFIED:20260419T131646
LOCATION:
SUMMARY:Sunday Worship
URL;VALUE=URI:https://galionsaintpaul.com/events/sunday-worship/2026-08-23
END:VEVENT
END:VCALENDAR
