BEGIN:VCALENDAR
VERSION:2.0
PRODID:icalendar-ruby
CALSCALE:GREGORIAN
METHOD:PUBLISH
BEGIN:VEVENT
DTSTAMP:20260419T125210Z
UID:5-231291@galionsaintpaul.com
DTSTART:20260802T133000Z
DTEND:20260802T144500Z
CLASS:PUBLIC
CREATED:20260419T041028
DESCRIPTION:Sunday Worship
LAST-MODIFIED:20260419T041028
LOCATION:
SUMMARY:Sunday Worship
URL;VALUE=URI:https://galionsaintpaul.com/events/sunday-worship/2026-08-02
END:VEVENT
END:VCALENDAR
